BEGIN:VCALENDAR
VERSION:2.0
PRODID:icalendar-ruby
CALSCALE:GREGORIAN
METHOD:PUBLISH
BEGIN:VEVENT
DTSTAMP:20260421T233002Z
UID:5-464071@christthekingnm.org
DTSTART:20260823T160000Z
DTEND:20260823T170000Z
CLASS:PUBLIC
CREATED:20260421T170218
DESCRIPTION:Sunday Worship
LAST-MODIFIED:20260421T170218
LOCATION:
SUMMARY:Sunday Worship
URL;VALUE=URI:https://christthekingnm.org/events/sunday-worship/2026-08-23
END:VEVENT
END:VCALENDAR
