BEGIN:VCALENDAR
VERSION:2.0
PRODID:icalendar-ruby
CALSCALE:GREGORIAN
METHOD:PUBLISH
BEGIN:VEVENT
DTSTAMP:20260421T215916Z
UID:5-463695@christthekingnm.org
DTSTART:20260816T160000Z
DTEND:20260816T170000Z
CLASS:PUBLIC
CREATED:20260421T142335
DESCRIPTION:Sunday Worship
LAST-MODIFIED:20260421T142335
LOCATION:
SUMMARY:Sunday Worship
URL;VALUE=URI:https://christthekingnm.org/events/sunday-worship/2026-08-16
END:VEVENT
END:VCALENDAR
